BEGIN:VCALENDAR
VERSION:2.0
PRODID:-//JudicialCouncil//NONSGML v1.0//EN
BEGIN:VEVENT
UID:event6995235@trial.court
DTSTAMP:20260421T102926Z
DTSTART:20260522T163000Z
DTEND:20260522T193000Z
SUMMARY:Commission to Consider Appellate Court Appointments
DESCRIPTION:This hearing will be held in person in San Francisco. 
X-ALT-DESC;FMTTYPE=text/html:<p>This hearing will be held in person in San Francisco.&nbsp;</p>
LOCATION:350 McAllister Street  San Francisco, CA, US 
END:VEVENT
END:VCALENDAR