BEGIN:VCALENDAR
VERSION:2.0
PRODID:-//JudicialCouncil//NONSGML v1.0//EN
BEGIN:VEVENT
UID:event69409@trial.court
DTSTAMP:20260421T123632Z
DTSTART:20250331T070000Z
DTEND:20250401T065959Z
SUMMARY:César Chávez Day
DESCRIPTION:
X-ALT-DESC;FMTTYPE=text/html:
LOCATION:
END:VEVENT
END:VCALENDAR