BEGIN:VCALENDAR
VERSION:2.0
PRODID:-//JudicialCouncil//NONSGML v1.0//EN
BEGIN:VEVENT
UID:event67745@trial.court
DTSTAMP:20260422T194956Z
DTSTART:20240319T230000Z
DTEND:20240320T000000Z
SUMMARY:Tuesday: 2024 State of the Judiciary Address
DESCRIPTION:Chief Justice Patricia Guerrero gave her annual State of the Judiciary
 address to a joint session of the California Legislature in Sacramento.
X-ALT-DESC;FMTTYPE=text/html:<p>Chief Justice Patricia Guerrero gave her annual State of the Judiciary address to a joint session of the California Legislature in Sacramento.</p>
LOCATION:10th and L Streets  Sacramento, CA, US 
END:VEVENT
END:VCALENDAR