BEGIN:VCALENDAR
VERSION:2.0
PRODID:-//JudicialCouncil//NONSGML v1.0//EN
BEGIN:VEVENT
UID:event6254013@trial.court
DTSTAMP:20260421T102926Z
DTSTART:20260716T070000Z
DTEND:20260718T065900Z
SUMMARY:Judicial Council Meeting
DESCRIPTION:
X-ALT-DESC;FMTTYPE=text/html:
LOCATION:455 Golden Gate Ave  San Francisco , CA, US 
END:VEVENT
END:VCALENDAR