BEGIN:VCALENDAR
VERSION:2.0
PRODID:-//JudicialCouncil//NONSGML v1.0//EN
BEGIN:VEVENT
UID:event62236@trial.court
DTSTAMP:20260421T003121Z
DTSTART:20240712T164500Z
DTEND:20240712T184500Z
SUMMARY:Judicial Council Meeting 
DESCRIPTION:This council meeting was held in-person in San Francisco.
X-ALT-DESC;FMTTYPE=text/html:<p>This council meeting was held in-person in San Francisco.</p>
LOCATION:455 Golden Gate Avenue  San Francisco, CA, US 
END:VEVENT
END:VCALENDAR