BEGIN:VCALENDAR
VERSION:2.0
PRODID:-//JudicialCouncil//NONSGML v1.0//EN
BEGIN:VEVENT
UID:event58377@trial.court
DTSTAMP:20260420T103445Z
DTSTART:20230102T211500Z
DTEND:20230102T214500Z
SUMMARY:Chief Justice-elect Patricia Guerrero, Judge Kelli Evans Swearing In
DESCRIPTION:Governor Gavin Newsom will swear in:
 * Justice Patricia Guerrero as the 29th Chief Justice of California.
 * Judge Kelli Evans as an associate justice of the California Supreme Court.
 Note: This event will not be livestreamed. Photos and a video of the ceremony
 will be posted to this Newsroom shortly after the event. 
X-ALT-DESC;FMTTYPE=text/html:<p>Governor Gavin Newsom will swear in:</p>
 <ul>
 <li>Justice Patricia Guerrero as the 29<sup>th</sup>&nbsp;Chief Justice of California.</li>
 <li>Judge Kelli Evans as an associate justice of the California Supreme Court.</li>
 </ul>
 <p>Note: This event will not be livestreamed. Photos and a video of the ceremony will be posted to this Newsroom shortly after the event.&nbsp;</p>
LOCATION:<p>Contact: Judicial Council Public Affairs, 415-865-4546</p>

END:VEVENT
END:VCALENDAR