BEGIN:VCALENDAR
VERSION:2.0
PRODID:-//JudicialCouncil//NONSGML v1.0//EN
BEGIN:VEVENT
UID:event5821295@trial.court
DTSTAMP:20260421T123703Z
DTSTART:20260907T070000Z
DTEND:20260908T065900Z
SUMMARY:Labor Day
DESCRIPTION:
X-ALT-DESC;FMTTYPE=text/html:
LOCATION:
END:VEVENT
END:VCALENDAR