BEGIN:VCALENDAR
VERSION:2.0
PRODID:-//JudicialCouncil//NONSGML v1.0//EN
BEGIN:VEVENT
UID:event5821293@trial.court
DTSTAMP:20260421T120939Z
DTSTART:20260619T070000Z
DTEND:20260620T065900Z
SUMMARY:Juneteenth
DESCRIPTION:
X-ALT-DESC;FMTTYPE=text/html:
LOCATION:
END:VEVENT
END:VCALENDAR