BEGIN:VCALENDAR
VERSION:2.0
PRODID:-//JudicialCouncil//NONSGML v1.0//EN
BEGIN:VEVENT
UID:event5821292@trial.court
DTSTAMP:20260421T123736Z
DTSTART:20260525T070000Z
DTEND:20260526T065900Z
SUMMARY:Memorial Day
DESCRIPTION:
X-ALT-DESC;FMTTYPE=text/html:
LOCATION:
END:VEVENT
END:VCALENDAR