BEGIN:VCALENDAR
VERSION:2.0
PRODID:-//JudicialCouncil//NONSGML v1.0//EN
BEGIN:VEVENT
UID:event55959@trial.court
DTSTAMP:20260419T203214Z
DTSTART:20230404T160000Z
DTEND:20230404T220000Z
SUMMARY:Supreme Court Oral Argument for April 4, 2023
DESCRIPTION:
X-ALT-DESC;FMTTYPE=text/html:
LOCATION:<p>The webcast recording can be viewed <a href="https://jcc.granicus.com/player/clip/3557?&amp;redirect=true&amp;h=da0a18bf4aa89a005df3b2c8961e46bc">here</a>.&nbsp;</p>

<p><embed allowfullscreen="true" frameborder="0" height="480px" src="//jcc.granicus.com/player/clip/3557?meta_id=107524&amp;redirect=true&amp;h=da0a18bf4aa89a005df3b2c8961e46bc&amp;stoptime=22079&amp;autostart=0&amp;embed=1" width="720px"></embed></p>

<p>The following cases are placed upon the calendar of the Supreme Court for a remote hearing on April 4, 2023.</p>

<p>TUESDAY, APRIL 4, 2023 — 9:00 A.M.</p>

<p>(1)&nbsp;&nbsp;&nbsp;&nbsp;&nbsp;&nbsp;&nbsp;&nbsp;&nbsp;&nbsp;&nbsp;&nbsp;&nbsp;&nbsp;&nbsp;&nbsp;&nbsp;&nbsp;&nbsp; <a>Leon (Dora) v. County of Riverside, S269672</a></p>

<p>(2)&nbsp;&nbsp;&nbsp;&nbsp;&nbsp;&nbsp;&nbsp;&nbsp;&nbsp;&nbsp;&nbsp;&nbsp;&nbsp;&nbsp;&nbsp;&nbsp;&nbsp;&nbsp;&nbsp; People v. Prudholme (Ricky), S271057&nbsp; &nbsp; &nbsp; &nbsp; &nbsp; &nbsp; &nbsp; &nbsp; &nbsp; &nbsp;</p>

<p>(3)&nbsp;&nbsp;&nbsp;&nbsp;&nbsp;&nbsp;&nbsp;&nbsp;&nbsp;&nbsp;&nbsp;&nbsp;&nbsp;&nbsp;&nbsp;&nbsp;&nbsp;&nbsp;&nbsp; People v. Reyes (Andres Quinonez), S270723</p>

<p>&nbsp;</p>

<p>1:30 P.M.</p>

<p><a>(4)&nbsp;&nbsp;&nbsp;&nbsp;&nbsp;&nbsp;&nbsp;&nbsp;&nbsp;&nbsp;&nbsp;&nbsp;&nbsp;&nbsp;&nbsp;&nbsp;&nbsp;&nbsp;&nbsp; Law Finance Group, LLC v. Key (Sarah Plott), S270798</a></p>

<p>(5)&nbsp;&nbsp;&nbsp;&nbsp;&nbsp;&nbsp;&nbsp;&nbsp;&nbsp;&nbsp;&nbsp;&nbsp;&nbsp;&nbsp;&nbsp;&nbsp;&nbsp;&nbsp;&nbsp; People v. Catarino (Edgar Sandoval), S271828</p>

<p>(6)&nbsp;&nbsp;&nbsp;&nbsp;&nbsp;&nbsp;&nbsp;&nbsp;&nbsp;&nbsp;&nbsp;&nbsp;&nbsp;&nbsp;&nbsp;&nbsp;&nbsp;&nbsp;&nbsp; People v. Lewis (Rodney Taurean), S272627</p>

END:VEVENT
END:VCALENDAR