BEGIN:VCALENDAR
VERSION:2.0
PRODID:-//JudicialCouncil//NONSGML v1.0//EN
BEGIN:VEVENT
UID:event3857470@trial.court
DTSTAMP:20260421T102926Z
DTSTART:20260518T160000Z
DTEND:20260523T000000Z
SUMMARY:Supreme Court Oral Argument
DESCRIPTION:This oral argument session will be held in-person at San Francisco.
X-ALT-DESC;FMTTYPE=text/html:<p>This oral argument session will be held in-person at San Francisco.</p>
LOCATION:350 McAllister Street  San Francisco, CA, US 
END:VEVENT
END:VCALENDAR